BEGIN:VCALENDAR
VERSION:2.0
PRODID:-//Turkish Riders//Events//EN
CALSCALE:GREGORIAN
METHOD:PUBLISH
BEGIN:VEVENT
UID:event-17@turkishriders.org
DTSTAMP:20260308T222539Z
DTSTART:20260522T180000Z
DTEND:20260524T180000Z
SUMMARY:BIKE SHED MOTO SHOW LONDON 2026 BILETLERI ON SATISTA!
DESCRIPTION:MOTOSİKLETLERİ SEVENLER VE MOTOSİKLET SEVENLERİ SEVENLER İÇİN\nAÇILIŞ SAATLERİ\n22 Mayıs Cuma akşamı – VIP Ön Gösterim\, 18.00 – 23.00\n23 Mayıs Cumartesi – 10.00 – 19.00\n24 Mayıs Pazar – 10.00 – 18.00\n\nBilet Linki:\nhttps://www.universe.com/events/bike-shed-moto-show-london-2026-tickets-SW719Z\n\nHepimizin sevdiği bir şeyi kutlamak için bize katılın\; motosiklet kültürü\, motosiklet insanları\, bindiğimiz o büyüleyici makineler ve bunların getirdiği dostluklar\, maceralar ve deneyimler. İster sürüyor olun\, ister sadece motosikletleri seviyor olun.\nÖzel yapım motosikletler\, moto ve giyim perakende markaları\, harika yemekler (aç gelin)\, canlı müzik\, sanat\, fotoğraf\, kokteyller\, bira\, şarap\, viski ve daha fazlasını sunan birçok bar\, kaliteli kahve\, lounge alanları\, özenle seçilmiş perakende markaları\, berber dükkânı\, dövmeler ve çok daha fazlası. Bu\, sıradan bir motosiklet fuarı değil.\nAvrupa’nın en büyük ve en iyi bağımsız yıllık motosiklet gösterisi olan bu etkinlik\, yeni nesil ve cafe-racer özel yapım motosiklet kültürünün yaratıcılığını kutluyor. Dünyanın dört bir yanından getirilen ve Birleşik Krallık’ta daha önce görülmemiş\, özenle seçilmiş 300’ün üzerinde özel yapım motosiklete ev sahipliği yapıyor.\nLondra’nın tarihi ve büyüleyici Tobacco Dock mekânında düzenlenen etkinlik\, aynı zamanda üstün misafirperverliğiyle de ünlü. Onlarca bağımsız satıcının sunduğu kaliteli sokak lezzetleri\, barista kahvesi\, birden fazla gerçek bar ve bir pub\, onlarca kanepe bulunan lounge alanları ve dinlenme bölümleri\, rıhtım kenarında oturma alanları\, canlı müzik\, canlı dövme sanatçıları ve geleneksel bir berber dükkânı da etkinliğin parçası.\nBu bir motosiklet ticaret fuarı DEĞİL. Bu\, güzel ve tarihi bir mekânda gerçekleşen\, aile dostu bir sergidir. Hayatın her kesiminden insan davetlidir ve ister motosiklet sürsün ister sürmesin\, herkes sıcak bir şekilde karşılanır. Rahatlayıp kalabalığın\, eğlencenin\, göz alıcı özel yapım motosikletlerin ve atmosferin tadını çıkarabileceğiniz bolca alanla tüm hafta sonu takılmak isteyeceksiniz. Buna canlı performanslar da dâhil.\nKameranızı alın\, arkadaşlarınızı alın\, partnerinizi ve çocukları da getirin.\n\nFOR THE PEOPLE WHO LOVE MOTORCYCLES\, AND THE PEOPLE WHO LOVE PEOPLE WHO LOVE MOTORCYCLES\n\nOPENING TIMES\n\n- Fri EVENING 22nd May - VIP Preview from 6pm - 11pm\n\n- Sat 23rd May 10am - 7pm\n\n- Sun 24th May 10am - 6pm\n\nJoin us in celebrating something we all love\; motorcycle culture\, motorcycle people\, the stunning machines we ride and the friendships\, adventures and experiences they bring\, whether you ride\, or just love bikes.\n\nCustom Motorcycles\, Moto and Apparel Retail brands\, Great Food (come hungry)\, Live Music\, Art\, Photography\, Multiple Bars with cocktails\, beer\, wine\, whiskies\, etc\, Quality Coffee\, Lounges\, Curated Retail\, Barbershop\, Tattoos and much more. This is not your average motorcycle show.\n\nEurope's biggest and best independent annual motorcycle show\, celebrates the creativity of the new-wave and cafe-racer custom motorcycle culture\, with over 300 curated custom motorcycles\, unseen in the UK\, from all over the world.\n\nSet in London's historic and beautiful Tobacco Docks the event is also famous for its superb hospitality with high quality street-food from dozens of sole-trading vendors\, barista coffee\, multiple proper bars and a pub\, lounges with dozens of sofas\, and lounge spaces\, plus dockside seating\, live music\, live tattoo artists\, and a traditional barbershop.\n\nThis is NOT a motorcycle trade fair\, it's a family-friendly exhibition in a beautiful historical venue\, where people from all walks of life are invited and everyone gets a warm welcome\, whether they ride a motorcycle or not. You'll want to hang-out all weekend\, with plenty of space to chill-out and enjoy the crowd\, the entertainment\, the custom eye-candy and the vibe\, including live entertainment.\n\nBring your camera\, bring your mates\, your better half\, and the kids too.\n\nOrganizer: thescrambledrider\n\nRSVP: https://turkishriders.org/events/bike-shed-moto-show-london-2026-biletleri-on-satista
LOCATION:TBD
ORGANIZER:CN=thescrambledrider
STATUS:CONFIRMED
SEQUENCE:0
END:VEVENT
END:VCALENDAR